BEGIN:VCALENDAR
VERSION:2.0
PRODID:-//Greenspring Poodle Club - ECPv6.15.20//NONSGML v1.0//EN
CALSCALE:GREGORIAN
METHOD:PUBLISH
X-WR-CALNAME:Greenspring Poodle Club
X-ORIGINAL-URL:https://greenspringpoodleclub.org
X-WR-CALDESC:Events for Greenspring Poodle Club
REFRESH-INTERVAL;VALUE=DURATION:PT1H
X-Robots-Tag:noindex
X-PUBLISHED-TTL:PT1H
BEGIN:VTIMEZONE
TZID:America/New_York
BEGIN:DAYLIGHT
TZOFFSETFROM:-0500
TZOFFSETTO:-0400
TZNAME:EDT
DTSTART:20200308T070000
END:DAYLIGHT
BEGIN:STANDARD
TZOFFSETFROM:-0400
TZOFFSETTO:-0500
TZNAME:EST
DTSTART:20201101T060000
END:STANDARD
BEGIN:DAYLIGHT
TZOFFSETFROM:-0500
TZOFFSETTO:-0400
TZNAME:EDT
DTSTART:20210314T070000
END:DAYLIGHT
BEGIN:STANDARD
TZOFFSETFROM:-0400
TZOFFSETTO:-0500
TZNAME:EST
DTSTART:20211107T060000
END:STANDARD
BEGIN:DAYLIGHT
TZOFFSETFROM:-0500
TZOFFSETTO:-0400
TZNAME:EDT
DTSTART:20220313T070000
END:DAYLIGHT
BEGIN:STANDARD
TZOFFSETFROM:-0400
TZOFFSETTO:-0500
TZNAME:EST
DTSTART:20221106T060000
END:STANDARD
BEGIN:DAYLIGHT
TZOFFSETFROM:-0500
TZOFFSETTO:-0400
TZNAME:EDT
DTSTART:20230312T070000
END:DAYLIGHT
BEGIN:STANDARD
TZOFFSETFROM:-0400
TZOFFSETTO:-0500
TZNAME:EST
DTSTART:20231105T060000
END:STANDARD
BEGIN:DAYLIGHT
TZOFFSETFROM:-0500
TZOFFSETTO:-0400
TZNAME:EDT
DTSTART:20240310T070000
END:DAYLIGHT
BEGIN:STANDARD
TZOFFSETFROM:-0400
TZOFFSETTO:-0500
TZNAME:EST
DTSTART:20241103T060000
END:STANDARD
BEGIN:DAYLIGHT
TZOFFSETFROM:-0500
TZOFFSETTO:-0400
TZNAME:EDT
DTSTART:20250309T070000
END:DAYLIGHT
BEGIN:STANDARD
TZOFFSETFROM:-0400
TZOFFSETTO:-0500
TZNAME:EST
DTSTART:20251102T060000
END:STANDARD
BEGIN:DAYLIGHT
TZOFFSETFROM:-0500
TZOFFSETTO:-0400
TZNAME:EDT
DTSTART:20260308T070000
END:DAYLIGHT
BEGIN:STANDARD
TZOFFSETFROM:-0400
TZOFFSETTO:-0500
TZNAME:EST
DTSTART:20261101T060000
END:STANDARD
BEGIN:DAYLIGHT
TZOFFSETFROM:-0500
TZOFFSETTO:-0400
TZNAME:EDT
DTSTART:20270314T070000
END:DAYLIGHT
BEGIN:STANDARD
TZOFFSETFROM:-0400
TZOFFSETTO:-0500
TZNAME:EST
DTSTART:20271107T060000
END:STANDARD
END:VTIMEZONE
BEGIN:VEVENT
DTSTART;TZID=America/New_York:20260121T080000
DTEND;TZID=America/New_York:20260121T170000
DTSTAMP:20260424T104825
CREATED:20260122T003810Z
LAST-MODIFIED:20260122T003810Z
UID:1882-1768982400-1769014800@greenspringpoodleclub.org
SUMMARY:SNOW and SHOW?
DESCRIPTION:Check Facebook Carroll Kennel Club page for updates on the show this coming weekend\, January 24-25.  Also\, Rau Dog Shows should have the updates.  IF you come\, bring your own chair.   Hope to see you there!
URL:https://greenspringpoodleclub.org/event/snow-and-show/
CATEGORIES:Breed Specialty,General Meeting
ATTACH;FMTTYPE=image/jpeg:https://greenspringpoodleclub.org/wp-content/uploads/2025/03/IMG_4632-scaled.jpeg
END:VEVENT
BEGIN:VEVENT
DTSTART;VALUE=DATE:20210320
DTEND;VALUE=DATE:20210322
DTSTAMP:20260424T104825
CREATED:20210212T032252Z
LAST-MODIFIED:20210217T015307Z
UID:714-1616198400-1616371199@greenspringpoodleclub.org
SUMMARY:GPC Breed Specialty Dog Show
DESCRIPTION:Join the Greenspring Poodle Club in Frederick\, Maryland for our annual Breed Specialty event on March 20 and 21\, 2021. \nEntries open on February 16th at 10:00 am EST. The entry fee is $36.00 for the first entry of each dog and $36 for each additional entry of the dame dog. The closing date for entries is Wednesday\, March 3\, 2021 at noon. \nClick here to download the show premium from Rau Dog Shows. \nThe Greenspring Poodle Club Breed Specialty event will be held in Building 14A at the Frederick Fairgrounds at 797 East Patrick St. in Frederick\, MD. \n 
URL:https://greenspringpoodleclub.org/event/gpc-breed-specialty-dog-show/
LOCATION:Frederick Fairgrounds\, 797 E. Patrick St.\, Bldg 14A\, Frederick\, MD\, 21701\, United States
CATEGORIES:Breed Specialty
ATTACH;FMTTYPE=image/jpeg:https://greenspringpoodleclub.org/wp-content/uploads/2021/02/Frederick-Breed-Specialty-2019.jpg
ORGANIZER;CN="Rau Dog Shows":MAILTO:info@raudogshows.com
END:VEVENT
END:VCALENDAR